Package: CopyNeutralIMA Version: 1.26.0 Command: /home/biocbuild/bbs-3.21-bioc/R/bin/R CMD check --install=check:CopyNeutralIMA.install-out.txt --library=/home/biocbuild/bbs-3.21-bioc/R/site-library --timings CopyNeutralIMA_1.26.0.tar.gz StartedAt: 2025-04-24 11:54:28 -0400 (Thu, 24 Apr 2025) EndedAt: 2025-04-24 11:59:56 -0400 (Thu, 24 Apr 2025) EllapsedTime: 327.3 seconds RetCode: 0 Status: OK CheckDir: CopyNeutralIMA.Rcheck Warnings: 0