Package: CopyNeutralIMA Version: 1.26.0 Command: /home/biocbuild/bbs-3.21-bioc/R/bin/R CMD build --keep-empty-dirs --no-resave-data CopyNeutralIMA StartedAt: 2025-04-24 11:11:11 -0400 (Thu, 24 Apr 2025) EndedAt: 2025-04-24 11:14:35 -0400 (Thu, 24 Apr 2025) EllapsedTime: 203.7 seconds RetCode: 0 Status: OK PackageFile: CopyNeutralIMA_1.26.0.tar.gz PackageFileSize: 566.9 KiB