Package: CRCL18 Version: 1.28.0 Command: /home/biocbuild/bbs-3.21-bioc/R/bin/R CMD INSTALL CRCL18 StartedAt: 2025-05-01 10:56:40 -0400 (Thu, 01 May 2025) EndedAt: 2025-05-01 10:56:42 -0400 (Thu, 01 May 2025) EllapsedTime: 2.5 seconds RetCode: 0 Status: OK