Package: COSMIC.67 Version: 1.44.0 Command: /home/biocbuild/bbs-3.21-bioc/R/bin/R CMD INSTALL COSMIC.67 StartedAt: 2025-04-24 11:03:35 -0400 (Thu, 24 Apr 2025) EndedAt: 2025-04-24 11:04:09 -0400 (Thu, 24 Apr 2025) EllapsedTime: 34.7 seconds RetCode: 0 Status: OK