Package: CLLmethylation Version: 1.28.0 Command: /home/biocbuild/bbs-3.21-bioc/R/bin/R CMD INSTALL CLLmethylation StartedAt: 2025-04-24 10:59:45 -0400 (Thu, 24 Apr 2025) EndedAt: 2025-04-24 11:00:02 -0400 (Thu, 24 Apr 2025) EllapsedTime: 16.8 seconds RetCode: 0 Status: OK