Package: CLLmethylation Version: 1.28.0 Command: /home/biocbuild/bbs-3.21-bioc/R/bin/R CMD build --keep-empty-dirs --no-resave-data CLLmethylation StartedAt: 2025-04-24 11:10:07 -0400 (Thu, 24 Apr 2025) EndedAt: 2025-04-24 11:11:11 -0400 (Thu, 24 Apr 2025) EllapsedTime: 64.2 seconds RetCode: 0 Status: OK PackageFile: CLLmethylation_1.28.0.tar.gz PackageFileSize: 361.9 KiB