Package: CCl4 Version: 1.46.0 Maintainer: Audrey Kauffmann MaintainerEmail: audrey at ebi.ac.uk git_url: https://git.bioconductor.org/packages/CCl4 git_branch: RELEASE_3_21 git_last_commit: 242cf87 git_last_commit_date: 2025-04-15 09:14:52 -0400 (Tue, 15 Apr 2025)