Package: BloodCancerMultiOmics2017 Version: 1.28.0 Command: /home/biocbuild/bbs-3.21-bioc/R/bin/R CMD build --keep-empty-dirs --no-resave-data BloodCancerMultiOmics2017 StartedAt: 2025-04-24 11:08:04 -0400 (Thu, 24 Apr 2025) EndedAt: 2025-04-24 11:37:42 -0400 (Thu, 24 Apr 2025) EllapsedTime: 1778.9 seconds RetCode: 0 Status: OK PackageFile: BloodCancerMultiOmics2017_1.28.0.tar.gz PackageFileSize: 53.69 MiB