Package: AmpAffyExample Version: 1.48.0 Command: /home/biocbuild/bbs-3.21-bioc/R/bin/R CMD check --install=check:AmpAffyExample.install-out.txt --library=/home/biocbuild/bbs-3.21-bioc/R/site-library --timings AmpAffyExample_1.48.0.tar.gz StartedAt: 2025-04-24 11:47:16 -0400 (Thu, 24 Apr 2025) EndedAt: 2025-04-24 11:48:02 -0400 (Thu, 24 Apr 2025) EllapsedTime: 45.8 seconds RetCode: 0 Status: WARNINGS CheckDir: AmpAffyExample.Rcheck Warnings: 1