Package: rnaseqGene Version: 1.33.0 Maintainer: Michael Love MaintainerEmail: michaelisaiahlove at gmail.com git_url: https://git.bioconductor.org/packages/rnaseqGene git_branch: devel git_last_commit: b1a0320 git_last_commit_date: 2025-04-15 10:29:05 -0400 (Tue, 15 Apr 2025)