Package: maEndToEnd Version: 2.29.0 Command: /home/biocbuild/bbs-3.22-bioc/R/bin/R CMD INSTALL maEndToEnd StartedAt: 2025-04-25 13:00:43 -0400 (Fri, 25 Apr 2025) EndedAt: 2025-04-25 13:01:11 -0400 (Fri, 25 Apr 2025) EllapsedTime: 27.6 seconds RetCode: 0 Status: OK