Package: maEndToEnd Version: 2.29.0 Command: /home/biocbuild/bbs-3.22-bioc/R/bin/R CMD build --keep-empty-dirs --no-resave-data maEndToEnd StartedAt: 2025-04-25 13:05:08 -0400 (Fri, 25 Apr 2025) EndedAt: 2025-04-25 13:05:57 -0400 (Fri, 25 Apr 2025) EllapsedTime: 49.0 seconds RetCode: 1 Status: ERROR PackageFile: None PackageFileSize: NA