Package: maEndToEnd Version: 2.29.0 Command: /Library/Frameworks/R.framework/Resources/bin/R CMD INSTALL maEndToEnd StartedAt: 2025-04-25 13:01:26 -0400 (Fri, 25 Apr 2025) EndedAt: 2025-04-25 13:01:51 -0400 (Fri, 25 Apr 2025) EllapsedTime: 24.5 seconds RetCode: 0 Status: OK