Package: maEndToEnd Version: 2.29.0 Command: /Library/Frameworks/R.framework/Resources/bin/R CMD build --keep-empty-dirs --no-resave-data maEndToEnd StartedAt: 2025-04-25 13:04:45 -0400 (Fri, 25 Apr 2025) EndedAt: 2025-04-25 13:05:27 -0400 (Fri, 25 Apr 2025) EllapsedTime: 41.9 seconds RetCode: 1 Status: ERROR PackageFile: None PackageFileSize: NA