Package: maEndToEnd Version: 2.29.0 Maintainer: Stefanie Reisenauer MaintainerEmail: steffi.reisenauer at tum.de git_url: https://git.bioconductor.org/packages/maEndToEnd git_branch: devel git_last_commit: 31e8b13 git_last_commit_date: 2025-04-15 10:29:27 -0400 (Tue, 15 Apr 2025)