Package: GeoMxWorkflows Version: 1.15.0 Command: chmod a+r GeoMxWorkflows -R && F:\biocbuild\bbs-3.22-bioc\R\bin\R.exe CMD build --keep-empty-dirs --no-resave-data GeoMxWorkflows StartedAt: 2025-04-25 13:07:42 -0400 (Fri, 25 Apr 2025) EndedAt: 2025-04-25 13:10:29 -0400 (Fri, 25 Apr 2025) EllapsedTime: 166.6 seconds RetCode: 1 Status: ERROR PackageFile: None PackageFileSize: NA