Package: ExpHunterSuite Version: 1.17.0 Command: F:\biocbuild\bbs-3.22-bioc\R\bin\R.exe CMD INSTALL ExpHunterSuite StartedAt: 2025-04-29 13:02:29 -0400 (Tue, 29 Apr 2025) EndedAt: 2025-04-29 13:03:49 -0400 (Tue, 29 Apr 2025) EllapsedTime: 79.6 seconds RetCode: 0 Status: OK