Package: ExpHunterSuite Version: 1.17.0 Command: chmod a+r ExpHunterSuite -R && F:\biocbuild\bbs-3.22-bioc\R\bin\R.exe CMD build --keep-empty-dirs --no-resave-data ExpHunterSuite StartedAt: 2025-04-29 13:06:37 -0400 (Tue, 29 Apr 2025) EndedAt: 2025-04-29 13:10:28 -0400 (Tue, 29 Apr 2025) EllapsedTime: 230.9 seconds RetCode: 0 Status: OK PackageFile: ExpHunterSuite_1.17.0.tar.gz PackageFileSize: 4.112 MiB