Package: yeastCC Version: 1.49.0 Maintainer: Sandrine Dudoit MaintainerEmail: sandrine at stat.berkeley.edu git_url: https://git.bioconductor.org/packages/yeastCC git_branch: devel git_last_commit: bf718eb git_last_commit_date: 2025-04-15 09:14:33 -0400 (Tue, 15 Apr 2025)