Package: vulcandata Version: 1.31.0 Maintainer: Federico M. Giorgi MaintainerEmail: federico.giorgi at gmail.com git_url: https://git.bioconductor.org/packages/vulcandata git_branch: devel git_last_commit: ae6ad0e git_last_commit_date: 2025-04-15 10:09:49 -0400 (Tue, 15 Apr 2025)