Package: tinesath1probe Version: 1.47.0 Command: /home/biocbuild/bbs-3.22-bioc/R/bin/R CMD INSTALL tinesath1probe StartedAt: 2025-04-24 10:56:41 -0400 (Thu, 24 Apr 2025) EndedAt: 2025-04-24 10:56:49 -0400 (Thu, 24 Apr 2025) EllapsedTime: 7.9 seconds RetCode: 0 Status: OK