Package: tinesath1probe Version: 1.47.0 Command: /home/biocbuild/bbs-3.22-bioc/R/bin/R CMD check --install=check:tinesath1probe.install-out.txt --library=/home/biocbuild/bbs-3.22-bioc/R/site-library --timings tinesath1probe_1.47.0.tar.gz StartedAt: 2025-04-24 12:52:02 -0400 (Thu, 24 Apr 2025) EndedAt: 2025-04-24 12:52:54 -0400 (Thu, 24 Apr 2025) EllapsedTime: 52.1 seconds RetCode: 0 Status: WARNINGS CheckDir: tinesath1probe.Rcheck Warnings: 1