Package: spqnData Version: 1.21.0 Command: /home/biocbuild/bbs-3.22-bioc/R/bin/R CMD INSTALL spqnData StartedAt: 2025-04-29 10:59:41 -0400 (Tue, 29 Apr 2025) EndedAt: 2025-04-29 10:59:54 -0400 (Tue, 29 Apr 2025) EllapsedTime: 13.4 seconds RetCode: 0 Status: OK