Package: spqnData Version: 1.21.0 Command: /home/biocbuild/bbs-3.22-bioc/R/bin/R CMD check --install=check:spqnData.install-out.txt --library=/home/biocbuild/bbs-3.22-bioc/R/site-library --timings spqnData_1.21.0.tar.gz StartedAt: 2025-04-29 12:49:38 -0400 (Tue, 29 Apr 2025) EndedAt: 2025-04-29 12:50:39 -0400 (Tue, 29 Apr 2025) EllapsedTime: 60.9 seconds RetCode: 0 Status: OK CheckDir: spqnData.Rcheck Warnings: 0