Package: spqnData Version: 1.21.0 Command: /home/biocbuild/bbs-3.22-bioc/R/bin/R CMD build --keep-empty-dirs --no-resave-data spqnData StartedAt: 2025-04-29 11:43:38 -0400 (Tue, 29 Apr 2025) EndedAt: 2025-04-29 11:43:41 -0400 (Tue, 29 Apr 2025) EllapsedTime: 3.0 seconds RetCode: 0 Status: OK PackageFile: spqnData_1.21.0.tar.gz PackageFileSize: 10.17 MiB