Package: spqnData Version: 1.21.0 Maintainer: Yi Wang MaintainerEmail: yiwangthu5 at gmail.com git_url: https://git.bioconductor.org/packages/spqnData git_branch: devel git_last_commit: 9e50f49 git_last_commit_date: 2025-04-15 10:15:02 -0400 (Tue, 15 Apr 2025)