Package: seq2pathway.data Version: 1.41.0 Command: /home/biocbuild/bbs-3.22-bioc/R/bin/R CMD INSTALL seq2pathway.data StartedAt: 2025-04-29 10:57:57 -0400 (Tue, 29 Apr 2025) EndedAt: 2025-04-29 10:57:59 -0400 (Tue, 29 Apr 2025) EllapsedTime: 2.1 seconds RetCode: 0 Status: OK