Package: seq2pathway.data Version: 1.41.0 Command: /home/biocbuild/bbs-3.22-bioc/R/bin/R CMD check --install=check:seq2pathway.data.install-out.txt --library=/home/biocbuild/bbs-3.22-bioc/R/site-library --timings seq2pathway.data_1.41.0.tar.gz StartedAt: 2025-04-29 12:45:55 -0400 (Tue, 29 Apr 2025) EndedAt: 2025-04-29 12:46:41 -0400 (Tue, 29 Apr 2025) EllapsedTime: 46.0 seconds RetCode: 0 Status: WARNINGS CheckDir: seq2pathway.data.Rcheck Warnings: 1