Package: seq2pathway.data Version: 1.41.0 Command: /home/biocbuild/bbs-3.22-bioc/R/bin/R CMD build --keep-empty-dirs --no-resave-data seq2pathway.data StartedAt: 2025-04-29 11:41:59 -0400 (Tue, 29 Apr 2025) EndedAt: 2025-04-29 11:43:19 -0400 (Tue, 29 Apr 2025) EllapsedTime: 80.4 seconds RetCode: 0 Status: OK PackageFile: seq2pathway.data_1.41.0.tar.gz PackageFileSize: 97.22 MiB