Package: scanMiRData Version: 1.15.0 Maintainer: Pierre-Luc Germain MaintainerEmail: pierre-luc.germain at hest.ethz.ch git_url: https://git.bioconductor.org/packages/scanMiRData git_branch: devel git_last_commit: 4b325b8 git_last_commit_date: 2025-04-15 10:17:10 -0400 (Tue, 15 Apr 2025)