Package: pepDat Version: 1.29.0 Maintainer: Renan Sauteraud MaintainerEmail: rsautera at fhcrc.org git_url: https://git.bioconductor.org/packages/pepDat git_branch: devel git_last_commit: 65c82c6 git_last_commit_date: 2025-04-15 09:55:21 -0400 (Tue, 15 Apr 2025)