Package: pd.atdschip.tiling Version: 0.47.0 Command: /home/biocbuild/bbs-3.22-bioc/R/bin/R CMD INSTALL pd.atdschip.tiling StartedAt: 2025-04-24 10:59:53 -0400 (Thu, 24 Apr 2025) EndedAt: 2025-04-24 11:00:18 -0400 (Thu, 24 Apr 2025) EllapsedTime: 24.7 seconds RetCode: 0 Status: OK