Package: pd.atdschip.tiling Version: 0.47.0 Command: /home/biocbuild/bbs-3.22-bioc/R/bin/R CMD build --keep-empty-dirs --no-resave-data pd.atdschip.tiling StartedAt: 2025-04-24 11:33:41 -0400 (Thu, 24 Apr 2025) EndedAt: 2025-04-24 11:36:15 -0400 (Thu, 24 Apr 2025) EllapsedTime: 153.9 seconds RetCode: 0 Status: OK PackageFile: pd.atdschip.tiling_0.47.0.tar.gz PackageFileSize: 134.3 MiB