Package: parathyroidSE Version: 1.45.1 Command: /home/biocbuild/bbs-3.22-bioc/R/bin/R CMD INSTALL parathyroidSE StartedAt: 2025-04-08 11:00:31 -0400 (Tue, 08 Apr 2025) EndedAt: 2025-04-08 11:00:52 -0400 (Tue, 08 Apr 2025) EllapsedTime: 21.6 seconds RetCode: 0 Status: OK