Package: parathyroidSE Version: 1.45.1 Command: /home/biocbuild/bbs-3.22-bioc/R/bin/R CMD check --install=check:parathyroidSE.install-out.txt --library=/home/biocbuild/bbs-3.22-bioc/R/site-library --timings parathyroidSE_1.45.1.tar.gz StartedAt: 2025-04-08 12:29:54 -0400 (Tue, 08 Apr 2025) EndedAt: 2025-04-08 12:31:40 -0400 (Tue, 08 Apr 2025) EllapsedTime: 106.5 seconds RetCode: 0 Status: OK CheckDir: parathyroidSE.Rcheck Warnings: 0