Package: parathyroidSE Version: 1.45.1 Command: /home/biocbuild/bbs-3.22-bioc/R/bin/R CMD build --keep-empty-dirs --no-resave-data parathyroidSE StartedAt: 2025-04-08 11:33:48 -0400 (Tue, 08 Apr 2025) EndedAt: 2025-04-08 11:34:30 -0400 (Tue, 08 Apr 2025) EllapsedTime: 41.6 seconds RetCode: 0 Status: OK PackageFile: parathyroidSE_1.45.1.tar.gz PackageFileSize: 21.24 MiB