Package: orthosData Version: 1.7.0 Maintainer: Panagiotis Papasaikas MaintainerEmail: panagiotis.papasaikas at fmi.ch git_url: https://git.bioconductor.org/packages/orthosData git_branch: devel git_last_commit: 951cc27 git_last_commit_date: 2025-04-15 10:23:31 -0400 (Tue, 15 Apr 2025)