Package: mouse4302barcodevecs Version: 1.47.0 Command: /home/biocbuild/bbs-3.22-bioc/R/bin/R CMD build --keep-empty-dirs --no-resave-data mouse4302barcodevecs StartedAt: 2025-04-24 11:30:17 -0400 (Thu, 24 Apr 2025) EndedAt: 2025-04-24 11:30:19 -0400 (Thu, 24 Apr 2025) EllapsedTime: 1.5 seconds RetCode: 0 Status: OK PackageFile: mouse4302barcodevecs_1.47.0.tar.gz PackageFileSize: 1021 KiB