Package: lydata Version: 1.35.0 Command: /home/biocbuild/bbs-3.22-bioc/R/bin/R CMD build --keep-empty-dirs --no-resave-data lydata StartedAt: 2025-04-29 11:28:17 -0400 (Tue, 29 Apr 2025) EndedAt: 2025-04-29 11:31:00 -0400 (Tue, 29 Apr 2025) EllapsedTime: 162.6 seconds RetCode: 0 Status: OK PackageFile: lydata_1.35.0.tar.gz PackageFileSize: 158.9 MiB