Package: homosapienDEE2CellScore Version: 1.5.0 Maintainer: Justin Marsh MaintainerEmail: j.marsh at auckland.ac.nz git_url: https://git.bioconductor.org/packages/homosapienDEE2CellScore git_branch: devel git_last_commit: f5dd740 git_last_commit_date: 2025-04-15 10:24:29 -0400 (Tue, 15 Apr 2025)