Package: hgu133abarcodevecs Version: 1.47.0 Maintainer: Matthew N. McCall MaintainerEmail: mmccall at jhsph.edu git_url: https://git.bioconductor.org/packages/hgu133abarcodevecs git_branch: devel git_last_commit: 946e622 git_last_commit_date: 2025-04-15 09:16:53 -0400 (Tue, 15 Apr 2025)