Package: harbChIP Version: 1.47.0 Command: /home/biocbuild/bbs-3.22-bioc/R/bin/R CMD build --keep-empty-dirs --no-resave-data harbChIP StartedAt: 2025-04-24 11:21:19 -0400 (Thu, 24 Apr 2025) EndedAt: 2025-04-24 11:21:43 -0400 (Thu, 24 Apr 2025) EllapsedTime: 24.6 seconds RetCode: 0 Status: OK PackageFile: harbChIP_1.47.0.tar.gz PackageFileSize: 7.203 MiB