Package: harbChIP Version: 1.47.0 Maintainer: VJ Carey MaintainerEmail: stvjc at channing.harvard.edu git_url: https://git.bioconductor.org/packages/harbChIP git_branch: devel git_last_commit: a74db0a git_last_commit_date: 2025-04-15 09:13:56 -0400 (Tue, 15 Apr 2025)