Package: h5vcData Version: 2.29.0 Command: /home/biocbuild/bbs-3.22-bioc/R/bin/R CMD INSTALL h5vcData StartedAt: 2025-04-29 10:55:28 -0400 (Tue, 29 Apr 2025) EndedAt: 2025-04-29 10:55:30 -0400 (Tue, 29 Apr 2025) EllapsedTime: 2.1 seconds RetCode: 0 Status: OK