Package: h5vcData Version: 2.29.0 Command: /home/biocbuild/bbs-3.22-bioc/R/bin/R CMD check --install=check:h5vcData.install-out.txt --library=/home/biocbuild/bbs-3.22-bioc/R/site-library --timings h5vcData_2.29.0.tar.gz StartedAt: 2025-04-29 12:13:09 -0400 (Tue, 29 Apr 2025) EndedAt: 2025-04-29 12:13:22 -0400 (Tue, 29 Apr 2025) EllapsedTime: 13.0 seconds RetCode: 0 Status: OK CheckDir: h5vcData.Rcheck Warnings: 0