Package: golubEsets Version: 1.51.0 Command: /home/biocbuild/bbs-3.22-bioc/R/bin/R CMD INSTALL golubEsets StartedAt: 2025-04-29 10:56:13 -0400 (Tue, 29 Apr 2025) EndedAt: 2025-04-29 10:56:16 -0400 (Tue, 29 Apr 2025) EllapsedTime: 3.1 seconds RetCode: 0 Status: OK