Package: golubEsets Version: 1.51.0 Command: /home/biocbuild/bbs-3.22-bioc/R/bin/R CMD check --install=check:golubEsets.install-out.txt --library=/home/biocbuild/bbs-3.22-bioc/R/site-library --timings golubEsets_1.51.0.tar.gz StartedAt: 2025-04-29 12:12:29 -0400 (Tue, 29 Apr 2025) EndedAt: 2025-04-29 12:12:47 -0400 (Tue, 29 Apr 2025) EllapsedTime: 17.9 seconds RetCode: 0 Status: OK CheckDir: golubEsets.Rcheck Warnings: 0