Package: golubEsets Version: 1.51.0 Command: /home/biocbuild/bbs-3.22-bioc/R/bin/R CMD build --keep-empty-dirs --no-resave-data golubEsets StartedAt: 2025-04-29 11:21:31 -0400 (Tue, 29 Apr 2025) EndedAt: 2025-04-29 11:21:33 -0400 (Tue, 29 Apr 2025) EllapsedTime: 2.3 seconds RetCode: 0 Status: OK PackageFile: golubEsets_1.51.0.tar.gz PackageFileSize: 4.302 MiB