Package: gDRtestData Version: 1.7.1 Maintainer: Arkadiusz Gladki MaintainerEmail: gladki.arkadiusz at gmail.com git_url: https://git.bioconductor.org/packages/gDRtestData git_branch: devel git_last_commit: c1888aa git_last_commit_date: 2025-04-17 05:09:31 -0400 (Thu, 17 Apr 2025)