Package: fission Version: 1.29.0 Maintainer: Michael Love MaintainerEmail: michaelisaiahlove at gmail.com git_url: https://git.bioconductor.org/packages/fission git_branch: devel git_last_commit: e051163 git_last_commit_date: 2025-04-15 09:55:31 -0400 (Tue, 15 Apr 2025)